BEGIN:VCALENDAR
VERSION:2.0
PRODID:-//Fishermans Arms - ECPv6.3.3.1//NONSGML v1.0//EN
CALSCALE:GREGORIAN
METHOD:PUBLISH
X-WR-CALNAME:Fishermans Arms
X-ORIGINAL-URL:https://fishermansarmsgolant.co.uk
X-WR-CALDESC:Events for Fishermans Arms
REFRESH-INTERVAL;VALUE=DURATION:PT1H
X-Robots-Tag:noindex
X-PUBLISHED-TTL:PT1H
BEGIN:VTIMEZONE
TZID:Europe/London
BEGIN:DAYLIGHT
TZOFFSETFROM:+0000
TZOFFSETTO:+0100
TZNAME:BST
DTSTART:20260329T010000
END:DAYLIGHT
BEGIN:STANDARD
TZOFFSETFROM:+0100
TZOFFSETTO:+0000
TZNAME:GMT
DTSTART:20261025T010000
END:STANDARD
END:VTIMEZONE
BEGIN:VEVENT
DTSTART;VALUE=DATE:20260108
DTEND;VALUE=DATE:20260407
DTSTAMP:20260422T084020
CREATED:20260108T230637Z
LAST-MODIFIED:20260221T142410Z
UID:492-1767830400-1775519999@fishermansarmsgolant.co.uk
SUMMARY:Winter Daily Deals
DESCRIPTION:Beat the Winter Blues with our Daily Deals \n \nEvery Day Deals \n3 for £16 \nEnjoy any 3 of our Standard and Premium Side Dishes for £16. Great as a Sharing Starter or nibbles over drinks with Friends \nMidweek Lunches \n \nAdd a Mug of Homemade Soup or a Basket of Chips to any filled Ciabatta for just £3.00 \n  \nCoffee and Cake \nAny Hot Drink with a delicious slice of Cake for just £6.00 \nDaily Deals \nTuesday’s Cracking Curries \nOur Cracking Homemade Curries are available from just £13.00. Add any one side dish to your curry for £3.00 \nWednesday’s Mini Mains Mania \nAny 2 of our Mini Main Dishes for just £20.00 \nThirsty Thursday’s Beer and a Burger \nA Drink and a Burger for £17.00. \n (Drinks Available Pint of Beer or Cider\, Soft Drink or Medium Glass of Wine.) (Additional Toppings at Additional Charge) \n  \nFriday’s Fantastic Fish and Chips \nDishes from our Chippy Menu for just £14.50 each. \nSaturday Night’s Pizza Party \nAny 2 Pizzas for £25.00. Family Bundle – 2 Pizzas and 3 Side Dishes – £35.00
URL:https://fishermansarmsgolant.co.uk/event/winter-daily-deals/
END:VEVENT
END:VCALENDAR